BEGIN:VCALENDAR
VERSION:2.0
PRODID:-//The Association of GRC Practitioners - ECPv6.15.18//NONSGML v1.0//EN
CALSCALE:GREGORIAN
METHOD:PUBLISH
X-ORIGINAL-URL:https://apgrc.com
X-WR-CALDESC:Events for The Association of GRC Practitioners
REFRESH-INTERVAL;VALUE=DURATION:PT1H
X-Robots-Tag:noindex
X-PUBLISHED-TTL:PT1H
BEGIN:VTIMEZONE
TZID:Asia/Jakarta
BEGIN:STANDARD
TZOFFSETFROM:+0700
TZOFFSETTO:+0700
TZNAME:WIB
DTSTART:20240101T000000
END:STANDARD
END:VTIMEZONE
BEGIN:VEVENT
DTSTART;TZID=Asia/Jakarta:20251017T150000
DTEND;TZID=Asia/Jakarta:20251017T163000
DTSTAMP:20260422T182040
CREATED:20251012T044316Z
LAST-MODIFIED:20251012T044316Z
UID:316-1760713200-1760718600@apgrc.com
SUMMARY:Free Webinar "Fraud Risk Assessment: Detect Before Damage"
DESCRIPTION:
URL:https://apgrc.com/event/free-webinar-fraud-risk-assessment-detect-before-damage/
LOCATION:Zoom Meeting\, Indonesia
ATTACH;FMTTYPE=image/jpeg:https://apgrc.com/wp-content/uploads/2025/10/WhatsApp-Image-2025-10-11-at-20.52.46.jpeg
END:VEVENT
BEGIN:VEVENT
DTSTART;TZID=Asia/Jakarta:20250118T100000
DTEND;TZID=Asia/Jakarta:20250118T120000
DTSTAMP:20260422T182040
CREATED:20251022T102824Z
LAST-MODIFIED:20251022T103345Z
UID:567-1737194400-1737201600@apgrc.com
SUMMARY:[FREE WEBINAR] Fraud Stop Here: The Power fo Integrity Beyond GRC
DESCRIPTION:
URL:https://apgrc.com/event/free-webinar-fraud-stop-here-the-power-fo-integrity-beyond-grc/
ATTACH;FMTTYPE=image/webp:https://apgrc.com/wp-content/uploads/2025/10/WEBINAR-JANUARI-RM.webp
END:VEVENT
END:VCALENDAR